BEGIN:VCALENDAR
VERSION:2.0
PRODID:-//Corconac - ECPv6.10.2//NONSGML v1.0//EN
CALSCALE:GREGORIAN
METHOD:PUBLISH
X-ORIGINAL-URL:https://www.corconac.fr
X-WR-CALDESC:Évènements pour Corconac
REFRESH-INTERVAL;VALUE=DURATION:PT1H
X-Robots-Tag:noindex
X-PUBLISHED-TTL:PT1H
BEGIN:VTIMEZONE
TZID:Europe/Paris
BEGIN:DAYLIGHT
TZOFFSETFROM:+0100
TZOFFSETTO:+0200
TZNAME:CEST
DTSTART:20250330T010000
END:DAYLIGHT
BEGIN:STANDARD
TZOFFSETFROM:+0200
TZOFFSETTO:+0100
TZNAME:CET
DTSTART:20251026T010000
END:STANDARD
END:VTIMEZONE
BEGIN:VEVENT
DTSTART;TZID=Europe/Paris:20250608T200000
DTEND;TZID=Europe/Paris:20250608T213000
DTSTAMP:20260419T154535
CREATED:20250214T160622Z
LAST-MODIFIED:20250612T075624Z
UID:6093-1749412800-1749418200@www.corconac.fr
SUMMARY:concert Zima musique slave & tzigane
DESCRIPTION:Zima\, c’est la rencontre de différents instruments telle la balalaïka\, cette drôle de mandoline triangulaire à trois cordes typique des pays slaves\, le violon avec sa fougue et mélancolie\, les guitares et leur énergie\, l’imposante basse balalaïka et les chants polyphoniques bien représentatifs de la musique de l’Est.\n\nHéritiers de la musique slave et tzigane de cabaret importée en France grâce à l’émigration des russes blancs à Paris dans les années 1920\, le groupe a apporté dans ses valises cette ambiance festive à Montpellier et ses environs. \n\nAinsi  Zima vous fera voyager avec un répertoire qui mêle rythmes joyeux et romances mélancoliques typiques de la culture russe traditionnelle mais aussi avec des chants tziganes et quelques chansons plus récentes.\n\nLes trois musiciens : Tatiana\, Nastassia et Youra\, tous d’origine \nrusse et ukrainienne partagent ensemble un héritage culturel et musical transmis de génération en génération. De la mélancolie à la fête\, il n’y a toujours qu’un pas dans cette musique ! \nDes balalaïkas de toutes les tailles\, des guitares\, du violon\, les voix qui se \nmélangent\, des longues jupes à fleurs qui virevoltent… et le public est \nrapidement embarqué dans la roulotte tzigane qui fera un détour par la Géorgie\, la Roumanie\, la Hongrie et d’autres pays en i. \nAu gré d’anecdotes\, les musiciens racontent et traduisent sur scène certaines \nchansons dans un dialogue familial pour inviter le public dans son univers de \nconte\, de neige et de bouleaux\, de renards et de feux de camps. On y parle aussi d’amour vache à la tzigane\, du travail des champs et d’exode. \nBienvenue dans la roulotte des artistes de ZIMA\, dignes héritiers d’une \nculture qui renaît à chacun de leur passage ! \nZIMA.MUSIQUE@GMAIL.COM \nWWW.ZIMAMUSIQUE.COM
URL:https://www.corconac.fr/calendrier/concert-zima-musique-slave-tzigane/
CATEGORIES:Évènement 2025
ATTACH;FMTTYPE=image/jpeg:https://www.corconac.fr/wp-content/uploads/2020/06/Zima-4-16-9.jpg
END:VEVENT
BEGIN:VEVENT
DTSTART;TZID=Europe/Paris:20250628T190000
DTEND;TZID=Europe/Paris:20250628T203000
DTSTAMP:20260419T154535
CREATED:20250214T160804Z
LAST-MODIFIED:20250704T101229Z
UID:6095-1751137200-1751142600@www.corconac.fr
SUMMARY:concert Jazz augmenté
DESCRIPTION:  \nEngagé\, rythmé\, poétique\, doux et musclé\, le jazz exprime de nouvelles couleurs sous\nles doigts des instrumentistes de Jazogg.\nTant à la basse qu’à la mélodie\, Anne Piffard détourne les conventions au violoncelle\n          et trouve une profondeur et une épaisseur soutenues par l’utilisation d’effets\nAu piano\, Céline Appel-Agopian nous régale par la finesse et la créativité d’un jeu métissé par l’influence de ses voyages.\nAnthony Mante\, batteur tout-terrain\, insuffle à ses musiques son amour particulier pour l’improvisation et le partage.\nDécouvrir la vidéo tournée dans l’église de Corconac : https://www.youtube.com/watch?v=Trbp7VhRjzA \nAnne Piffard\, violoncelle et chant \nCeline Appel-Agopian\, piano \nAnthony Mante\, batterie
URL:https://www.corconac.fr/calendrier/concert-jazz-augmente/
CATEGORIES:Évènement 2025
ATTACH;FMTTYPE=image/jpeg:https://www.corconac.fr/wp-content/uploads/2025/02/MG_7667-scaled.jpg
END:VEVENT
END:VCALENDAR